BEGIN:VCALENDAR
VERSION:2.0
PRODID:-//Der Divan – das Arabische Kulturhaus in Berlin - ECPv6.15.20//NONSGML v1.0//EN
CALSCALE:GREGORIAN
METHOD:PUBLISH
X-WR-CALNAME:Der Divan – das Arabische Kulturhaus in Berlin
X-ORIGINAL-URL:https://derdivan.org
X-WR-CALDESC:Veranstaltungen für Der Divan – das Arabische Kulturhaus in Berlin
REFRESH-INTERVAL;VALUE=DURATION:PT1H
X-Robots-Tag:noindex
X-PUBLISHED-TTL:PT1H
BEGIN:VTIMEZONE
TZID:Europe/Berlin
BEGIN:DAYLIGHT
TZOFFSETFROM:+0100
TZOFFSETTO:+0200
TZNAME:CEST
DTSTART:20240331T010000
END:DAYLIGHT
BEGIN:STANDARD
TZOFFSETFROM:+0200
TZOFFSETTO:+0100
TZNAME:CET
DTSTART:20241027T010000
END:STANDARD
BEGIN:DAYLIGHT
TZOFFSETFROM:+0100
TZOFFSETTO:+0200
TZNAME:CEST
DTSTART:20250330T010000
END:DAYLIGHT
BEGIN:STANDARD
TZOFFSETFROM:+0200
TZOFFSETTO:+0100
TZNAME:CET
DTSTART:20251026T010000
END:STANDARD
BEGIN:DAYLIGHT
TZOFFSETFROM:+0100
TZOFFSETTO:+0200
TZNAME:CEST
DTSTART:20260329T010000
END:DAYLIGHT
BEGIN:STANDARD
TZOFFSETFROM:+0200
TZOFFSETTO:+0100
TZNAME:CET
DTSTART:20261025T010000
END:STANDARD
END:VTIMEZONE
BEGIN:VEVENT
DTSTART;TZID=Europe/Berlin:20250905T140000
DTEND;TZID=Europe/Berlin:20250905T180000
DTSTAMP:20260421T185015
CREATED:20250807T140519Z
LAST-MODIFIED:20250807T140519Z
UID:987506442-1757080800-1757095200@derdivan.org
SUMMARY:Workshop: Einführung in die Kunst des Debattierens
DESCRIPTION:Der Divan – Das Arabische Kulturhaus lädt ein zu einem Rhetorik- und Argumentationstraining. In diesem sechswöchigen Einsteigerkurs werden jungen Menschen im Alter von 16 bis 25 Jahren die Grundlagen des Debattierens vermittelt – praxisnah und gesellschaftlich relevant. \nIm Mittelpunkt stehen Themen wie Meinungsfreiheit\, kulturelle Identität\, soziale Gerechtigkeit oder technologische Zukunft. Die Teilnehmenden trainieren in interaktiven Übungen und realitätsnahen Debatten\, starke Argumente zu entwickeln\, andere Positionen zu hinterfragen und sich mit Respekt und Klarheit auszudrücken. \nGeleitet wird der Kurs von zwei erfahrenen Debattierern: Ruha Abo Ghaloun und Abdulrahman Mohammad – beide Masterstudierende an der TU Berlin und mehrfach international ausgezeichnet. \nDer Kurs basiert auf den Grundlagen des Oxford-Style Debattierformats und wurde exklusiv für den Divan konzipiert. Neben der Theorie erwarten euch interaktive Übungen\, Reflexionsrunden und spannende Debattenformate. \nAm Ende des Kurses wird ein offizielles Teilnahmezertifikat ausgestellt. \nWann: 05.09.-10.10.2025\, jeweils freitags\, 14:00-18:00 Uhr \nWo: Der Divan – Das Arabische Kulturhaus\, Schützallee 27\, 14169 Berlin \nTeilnehmerzahl: 12-20 Personen \nAnmeldung: per Mail an debates@derdivan.org \nMit Ihrer Anmeldung sind Sie mit Bild- und Videoaufnahmen während der Veranstaltung einverstanden und willigen ein\, dass diese zu Zwecken der Öffentlichkeitsarbeit des Divan – Das Arabische Kulturhaus veröffentlicht werden dürfen.
URL:https://derdivan.org/event/workshop-einfuehrung-in-die-kunst-des-debattierens/
LOCATION:Der Divan – das Arabische Kulturhaus\, Schützallee 27-29\, Berlin\, Berlin\, 14169\, Deutschland
CATEGORIES:Divan Debates,Workshops
ATTACH;FMTTYPE=image/png:https://derdivan.org/wp-content/uploads/2025/08/Quer-deutsch.png
ORGANIZER;CN="Der Divan - das Arabische Kulturhaus":MAILTO:events@derdivan.org
END:VEVENT
END:VCALENDAR