BEGIN:VCALENDAR
VERSION:2.0
PRODID:-//Der Divan – das Arabische Kulturhaus in Berlin - ECPv6.15.20//NONSGML v1.0//EN
CALSCALE:GREGORIAN
METHOD:PUBLISH
X-WR-CALNAME:Der Divan – das Arabische Kulturhaus in Berlin
X-ORIGINAL-URL:https://derdivan.org
X-WR-CALDESC:Veranstaltungen für Der Divan – das Arabische Kulturhaus in Berlin
REFRESH-INTERVAL;VALUE=DURATION:PT1H
X-Robots-Tag:noindex
X-PUBLISHED-TTL:PT1H
BEGIN:VTIMEZONE
TZID:Europe/Berlin
BEGIN:DAYLIGHT
TZOFFSETFROM:+0100
TZOFFSETTO:+0200
TZNAME:CEST
DTSTART:20240331T010000
END:DAYLIGHT
BEGIN:STANDARD
TZOFFSETFROM:+0200
TZOFFSETTO:+0100
TZNAME:CET
DTSTART:20241027T010000
END:STANDARD
BEGIN:DAYLIGHT
TZOFFSETFROM:+0100
TZOFFSETTO:+0200
TZNAME:CEST
DTSTART:20250330T010000
END:DAYLIGHT
BEGIN:STANDARD
TZOFFSETFROM:+0200
TZOFFSETTO:+0100
TZNAME:CET
DTSTART:20251026T010000
END:STANDARD
BEGIN:DAYLIGHT
TZOFFSETFROM:+0100
TZOFFSETTO:+0200
TZNAME:CEST
DTSTART:20260329T010000
END:DAYLIGHT
BEGIN:STANDARD
TZOFFSETFROM:+0200
TZOFFSETTO:+0100
TZNAME:CET
DTSTART:20261025T010000
END:STANDARD
END:VTIMEZONE
BEGIN:VEVENT
DTSTART;TZID=Europe/Berlin:20250613T180000
DTEND;TZID=Europe/Berlin:20250613T200000
DTSTAMP:20260421T202600
CREATED:20250604T190412Z
LAST-MODIFIED:20250604T190412Z
UID:987505381-1749837600-1749844800@derdivan.org
SUMMARY:Pressefreiheit – war’s das?
DESCRIPTION:Anlässlich des Internationalen Tages der Pressefreiheit veranstaltet der Divan\, das Arabische Kulturhaus\, eine Diskussionsrunde über den Stand der Pressefreiheit und lädt Sie herzlich zum Meinungsaustausch mit Experten ein!\n \n \nDas Event findet am Freitag\, dem 13. Juni 2025\, von 18:00 bis 20:00 Uhr im Divan (Schützallee 27\, 14169 Berlin-Zehlendorf) statt. \n\nWeltweit sterben Immer mehr Journalisten in Ausübung ihres Berufs. Viele werden bedroht\, tätlich angegriffen\, eingeschüchtert. Die Pressefreiheit scheint nicht nur in demokratiefernen Ländern gefährdet\, sondern zunehmend auch in westlichen Demokratien.\n\nUnter der Moderation von Ewald KÖNIG\, Journalist\, Autor\, diskutieren:\n \nDr. Frank-Dieter FREILING\, ZDF\, Senior Vice President\, Leiter\nder Abteilung Internationale Angelegenheiten\nAbdulla Al-Sulaiti\, Stellvertretender Vorsitzender des Verwaltungsrats des Qatar Press Center (zugeschaltet) \nErik KIRSCHBAUM\, Auslandskorrespondent für US-Medien\, eh. Executive Director of German-American Exchange Program\nIm Anschluss bietet ein kleiner Empfang die Gelegenheit zum Networking. Wir freuen uns auf Ihr Kommen!\n\nANMELDUNG: Über den Link
URL:https://derdivan.org/event/pressefreiheit-wars-das/
CATEGORIES:Roundtables
ATTACH;FMTTYPE=image/png:https://derdivan.org/wp-content/uploads/2025/06/Quer-Deutsch-2.png
END:VEVENT
END:VCALENDAR