BEGIN:VCALENDAR
VERSION:2.0
PRODID:-//Der Divan – das Arabische Kulturhaus in Berlin - ECPv6.15.20//NONSGML v1.0//EN
CALSCALE:GREGORIAN
METHOD:PUBLISH
X-WR-CALNAME:Der Divan – das Arabische Kulturhaus in Berlin
X-ORIGINAL-URL:https://derdivan.org
X-WR-CALDESC:Veranstaltungen für Der Divan – das Arabische Kulturhaus in Berlin
REFRESH-INTERVAL;VALUE=DURATION:PT1H
X-Robots-Tag:noindex
X-PUBLISHED-TTL:PT1H
BEGIN:VTIMEZONE
TZID:Europe/Berlin
BEGIN:DAYLIGHT
TZOFFSETFROM:+0100
TZOFFSETTO:+0200
TZNAME:CEST
DTSTART:20250330T010000
END:DAYLIGHT
BEGIN:STANDARD
TZOFFSETFROM:+0200
TZOFFSETTO:+0100
TZNAME:CET
DTSTART:20251026T010000
END:STANDARD
BEGIN:DAYLIGHT
TZOFFSETFROM:+0100
TZOFFSETTO:+0200
TZNAME:CEST
DTSTART:20260329T010000
END:DAYLIGHT
BEGIN:STANDARD
TZOFFSETFROM:+0200
TZOFFSETTO:+0100
TZNAME:CET
DTSTART:20261025T010000
END:STANDARD
BEGIN:DAYLIGHT
TZOFFSETFROM:+0100
TZOFFSETTO:+0200
TZNAME:CEST
DTSTART:20270328T010000
END:DAYLIGHT
BEGIN:STANDARD
TZOFFSETFROM:+0200
TZOFFSETTO:+0100
TZNAME:CET
DTSTART:20271031T010000
END:STANDARD
END:VTIMEZONE
BEGIN:VEVENT
DTSTART;TZID=Europe/Berlin:20260315T120000
DTEND;TZID=Europe/Berlin:20260315T160000
DTSTAMP:20260421T154330
CREATED:20260306T110016Z
LAST-MODIFIED:20260306T110016Z
UID:987508433-1773576000-1773590400@derdivan.org
SUMMARY:Osterkarten-Workshop: Mit Kunst und Kalligraphie
DESCRIPTION:Nach dem großen Erfolg im vergangenen Jahr freuen wir uns sehr\, auch in diesem Frühling wieder zu einem besonderen Oster-Workshop einzuladen. Gemeinsam mit dem renommierten Kalligraphen Ziad Sheno haben Sie die Möglichkeit\, eigene Osterkarten kreativ zu gestalten und die Kunst der Kalligrafie kennenzulernen. \nUnter fachkundiger Anleitung entstehen individuelle Grußkarten in verschiedenen Farben und Formaten – kleine Unikate\, die Sie zu Ostern an Familie und Freund*innen verschicken oder verschenken können. \nAlle Materialien werden in hochwertiger Qualität bereitgestellt. Sie müssen lediglich Neugier\, gute Laune und Freude am Gestalten mitbringen. In entspannter Atmosphäre erleben wir gemeinsam einen inspirierenden Nachmittag rund um Schriftkunst und kreative Gestaltung. \nZiad Sheno ist ein erfahrener Kalligraph aus dem Irak und Mitglied der internationalen Gesellschaft zur Förderung der Literatur- und Schriftkunst ARS SCRIBENDI e.V. und des Fördervereins Internationale Kalligraphie e.V. \nMelden Sie sich jetzt an und lassen Sie sich von der Kunst der Kalligrafie begeistern!\nWir freuen uns auf Ihre Teilnahme. \n\nWann: Sonntag\, 15. März 2026 von 12-16 Uhr \nWo: Der Divan – Das Arabische Kulturhaus\, Schützallee 27\, 14169 Berlin \nSprachen: Deutsch / Englisch / Arabisch \nTeilnehmendenzahl: 25 \nEintritt frei \nAnmeldung\n*Mit Ihrer Anmeldung sind Sie mit Bild- und Videoaufnahmen während der Veranstaltung einverstanden und willigen ein\, dass diese zu Zwecken der Öffentlichkeitsarbeit des Divan – Das Arabische Kulturhaus veröffentlicht werden dürfen. \n  \n 
URL:https://derdivan.org/event/osterkarten-workshop-mit-kunst-und-kalligraphie/
LOCATION:Der Divan – das Arabische Kulturhaus\, Schützallee 27-29\, Berlin\, Berlin\, 14169\, Deutschland
CATEGORIES:Workshops
ATTACH;FMTTYPE=image/png:https://derdivan.org/wp-content/uploads/2026/03/Deutsch-mit-QR-Code-3-1.png
ORGANIZER;CN="Der Divan - das Arabische Kulturhaus":MAILTO:events@derdivan.org
END:VEVENT
END:VCALENDAR