BEGIN:VCALENDAR
VERSION:2.0
PRODID:-//Der Divan – das Arabische Kulturhaus in Berlin - ECPv6.15.20//NONSGML v1.0//EN
CALSCALE:GREGORIAN
METHOD:PUBLISH
X-WR-CALNAME:Der Divan – das Arabische Kulturhaus in Berlin
X-ORIGINAL-URL:https://derdivan.org
X-WR-CALDESC:Veranstaltungen für Der Divan – das Arabische Kulturhaus in Berlin
REFRESH-INTERVAL;VALUE=DURATION:PT1H
X-Robots-Tag:noindex
X-PUBLISHED-TTL:PT1H
BEGIN:VTIMEZONE
TZID:Europe/Berlin
BEGIN:DAYLIGHT
TZOFFSETFROM:+0100
TZOFFSETTO:+0200
TZNAME:CEST
DTSTART:20240331T010000
END:DAYLIGHT
BEGIN:STANDARD
TZOFFSETFROM:+0200
TZOFFSETTO:+0100
TZNAME:CET
DTSTART:20241027T010000
END:STANDARD
BEGIN:DAYLIGHT
TZOFFSETFROM:+0100
TZOFFSETTO:+0200
TZNAME:CEST
DTSTART:20250330T010000
END:DAYLIGHT
BEGIN:STANDARD
TZOFFSETFROM:+0200
TZOFFSETTO:+0100
TZNAME:CET
DTSTART:20251026T010000
END:STANDARD
BEGIN:DAYLIGHT
TZOFFSETFROM:+0100
TZOFFSETTO:+0200
TZNAME:CEST
DTSTART:20260329T010000
END:DAYLIGHT
BEGIN:STANDARD
TZOFFSETFROM:+0200
TZOFFSETTO:+0100
TZNAME:CET
DTSTART:20261025T010000
END:STANDARD
END:VTIMEZONE
BEGIN:VEVENT
DTSTART;TZID=Europe/Berlin:20250722T190000
DTEND;TZID=Europe/Berlin:20250722T210000
DTSTAMP:20260423T124652
CREATED:20250716T103003Z
LAST-MODIFIED:20250716T103003Z
UID:987506148-1753210800-1753218000@derdivan.org
SUMMARY:DIVAN FILMABEND #2: FROM ABDUL TO LEILA
DESCRIPTION:Der Divan – Das Arabische Kulturhaus lädt Sie herzlich zur zweiten Ausgabe unserer neuen Veranstaltungsreihe ein: dem Divan Filmabend. \nAm 22. Juli um 19:00 Uhr präsentieren wir Ihnen im Divan – Das Arabische Kulturhaus in Berlin-Zehlendorf den preisgekrönten Dokumentarfilm FROM ABDUL TO LEILA von Leila Albayaty. \nDies ist die Odyssee einer Frau\, die ihre Geschichte singt\, um sich neu zu erfinden\, angetrieben von einem unbändigen Lebenswillen… Nach einem Unfall\, der zu Gedächtnisverlust führte\, und mehreren Jahren im Exil sucht eine junge französisch-irakische Frau wieder den Kontakt zu ihrer Familie\, um zu verstehen\, wer sie ist. Sprache und Musik führen sie nach und nach zu lange verdrängten Erinnerungen und leiten sie zum tieferen Verständnis ihrer Herkunft und Heimat. Im Mittelpunkt ihrer Suche stehen Leila Albayatys Beziehung zu ihrem Vater\, zu seiner Muttersprache Arabisch und ihre Versuche\, diese Sprache zu lernen\, indem sie die Gedichte\, die der Vater für sie geschrieben hat\, vertont. \nFrom Abdul to Leila wurde beim Arab Film Festival Rotterdam und beim Annual Aarhus Film Festival in Dänemark als bester Dokumentarfilm ausgezeichnet und erhielt den Grand Jury Prize beim Tetouan Mediterranean Film Festival. \nIm anschließenden Artist Talk werden Samir Nasr und Leila Albayaty über ihren Lebensweg\, die Entstehung des Films und die Chancen bzw. Herausforderungen\, die das Leben in zwei unterschiedlichen Kulturen bringt\, sprechen. Schließlich wird es beim Get-together zusätzlichen Raum für gemeinsamen Austausch geben. \nLeila Albayaty ist eine französisch-irakische Regisseurin\, Sängerin\, Komponistin\, Performerin\, Videokünstlerin\, Drehbuchautorin und Autodidaktin. Sie komponiert die Musik für ihre Filme\, wobei sie verschiedene Musikstile miteinander verbindet\, indem sie Elemente aus Pop\, Filmmusik und Elektro integriert. Sie singt in mehreren Sprachen. Leila beschäftigt sich häufig mit den Themen Exil und Erinnerung. Sie lebt zwischen Brüssel\, Berlin\, Paris und Kairo. 2009 drehte sie ihren ersten Kurzfilm VU\, der bei der Berlinale eine besondere Erwähnung der Jury erhielt. Anschließend drehte sie ihren ersten Spielfilm BERLIN TELEGRAM (2012)\, der auf etwa 20 Festivals gezeigt wurde. Ihr Film FACE B (2015)\, ein 40-minütiges Dokudrama\, feierte seine Weltpremiere auf der Berlinale 2015. \nSamir Nasr ist Regisseur\, Cutter und Dozent (u. a. UDK Berlin\, Universitäten Tübingen und Mainz\, FH Dortmund) mit Wohnsitz in Berlin und Kairo. Nach dem Abitur an der Deutschen Schule in Kairo studierte er Betriebswirtschaft\, arbeitete als Filmvorführer und absolvierte ein Studium an der Filmakademie Baden-Württemberg (Drehbuch und Regie). Seine Filme wurden vielfach ausgezeichnet: u. a. mit dem Preis der Akademie der Künste Berlin für NACHTTANKE (1999) und dem Tanit in Bronze für SHARAF (2021) beim Carthage Film Festival. Seit Anfang des Jahres kuratiert Samir Nasr das Filmprogramm des Divan. \nFrom Abdul to Leila \nDokumentarfilm \nRegie: Leila Albayaty \nDeutschland/Belgien/Katar/Saudi-Arabien\, 2024 \n92 min\, AR/FR/EN\, mit deutschen Untertiteln \nWann: Dienstag\, 22. Juli 2025\, 19:00 Uhr \nEinlass ab 18:15 Uhr \nWo: Der Divan – Das Arabische Kulturhaus\, Schützallee 27\, 14169 Berlin \nModeration: Samir Nasr \nSprache: Englisch \nEintritt frei \nAnmeldung über den Button unten \nMit Ihrer Anmeldung sind Sie mit Bild- und Videoaufnahmen während der Veranstaltung einverstanden und willigen ein\, dass diese zu Zwecken der Öffentlichkeitsarbeit des Divan – Das Arabische Kulturhaus veröffentlicht werden dürfen. \n  \nAnmeldung
URL:https://derdivan.org/event/divan-filmabend-2-from-abdul-to-leila/
LOCATION:Der Divan – das Arabische Kulturhaus\, Schützallee 27-29\, Berlin\, Berlin\, 14169\, Deutschland
CATEGORIES:Film
ATTACH;FMTTYPE=image/png:https://derdivan.org/wp-content/uploads/2025/07/Deutsch-EMAIL-und-EVENTBRITE-mit-QR-Code.png
ORGANIZER;CN="Der Divan - das Arabische Kulturhaus":MAILTO:events@derdivan.org
END:VEVENT
END:VCALENDAR