BEGIN:VCALENDAR
VERSION:2.0
PRODID:-//Der Divan – das Arabische Kulturhaus in Berlin - ECPv6.15.20//NONSGML v1.0//EN
CALSCALE:GREGORIAN
METHOD:PUBLISH
X-WR-CALNAME:Der Divan – das Arabische Kulturhaus in Berlin
X-ORIGINAL-URL:https://derdivan.org
X-WR-CALDESC:Veranstaltungen für Der Divan – das Arabische Kulturhaus in Berlin
REFRESH-INTERVAL;VALUE=DURATION:PT1H
X-Robots-Tag:noindex
X-PUBLISHED-TTL:PT1H
BEGIN:VTIMEZONE
TZID:Europe/Berlin
BEGIN:DAYLIGHT
TZOFFSETFROM:+0100
TZOFFSETTO:+0200
TZNAME:CEST
DTSTART:20240331T010000
END:DAYLIGHT
BEGIN:STANDARD
TZOFFSETFROM:+0200
TZOFFSETTO:+0100
TZNAME:CET
DTSTART:20241027T010000
END:STANDARD
BEGIN:DAYLIGHT
TZOFFSETFROM:+0100
TZOFFSETTO:+0200
TZNAME:CEST
DTSTART:20250330T010000
END:DAYLIGHT
BEGIN:STANDARD
TZOFFSETFROM:+0200
TZOFFSETTO:+0100
TZNAME:CET
DTSTART:20251026T010000
END:STANDARD
BEGIN:DAYLIGHT
TZOFFSETFROM:+0100
TZOFFSETTO:+0200
TZNAME:CEST
DTSTART:20260329T010000
END:DAYLIGHT
BEGIN:STANDARD
TZOFFSETFROM:+0200
TZOFFSETTO:+0100
TZNAME:CET
DTSTART:20261025T010000
END:STANDARD
END:VTIMEZONE
BEGIN:VEVENT
DTSTART;TZID=Europe/Berlin:20251120T180000
DTEND;TZID=Europe/Berlin:20251120T203000
DTSTAMP:20260421T190001
CREATED:20251107T144936Z
LAST-MODIFIED:20251107T144936Z
UID:987507336-1763661600-1763670600@derdivan.org
SUMMARY:Deutsch-arabischer Poesieabend im Divan
DESCRIPTION:Der Divan – Das Arabische Kulturhaus und The Poetry Project Berlin e.V. laden herzlich zu einem literarischen Poesie-Abend am 20. November 2025 um 18:00 Uhr im Divan ein.\nDie deutschen und arabischen Texte der vortragenden Poet*innen mit unterschiedlichen Hintergründen widmen sich Themen wie Ankommen\, Zugehörigkeit\, Diskriminierungserfahrungen\, dem scheinbar Fremden\, Stereotypen\, Sprache und Integration. Mit ihren poetischen Stimmen teilen sie Erfahrungen und Perspektiven auf Sprache\, Identität und gesellschaftliches Miteinander.\nDurch den Abend führt Susanne Koelbl\, Projektinitiatorin und künstlerische Leiterin von The Poetry Project Berlin e.V.\, die das Publikum mit einer thematischen Einführung willkommen heißt und die Lesung sowie die anschließende Diskussion moderiert.\nEin Büchertisch von The Poetry Project Berlin e.V. begleitet die Veranstaltung und lädt dazu ein\, die Poesie auch über den Moment hinaus weiterzutragen.\nWir freuen uns auf einen inspirierenden Abend im Zeichen von Literatur\, Austausch und Begegnung und freuen uns auf Ihren Besuch!\n\nWann: Donnerstag\, 20. November 2025 um 18:00 Uhr\nWo: Der Divan – Das Arabische Kulturhaus\, Schützallee 27\, 14169 Berlin\nSprachen: Deutsch und Arabisch\n\nAnmeldung\n\nMit Ihrer Anmeldung sind Sie mit Bild- und Videoaufnahmen während der Veranstaltung einverstanden und willigen ein\, dass diese zu Zwecken der Öffentlichkeitsarbeit des Divan – Das Arabische Kulturhaus veröffentlicht werden dürfen.
URL:https://derdivan.org/event/deutsch-arabischer-poesieabend-im-divan/
LOCATION:Der Divan – das Arabische Kulturhaus\, Schützallee 27-29\, Berlin\, Berlin\, 14169\, Deutschland
ATTACH;FMTTYPE=image/png:https://derdivan.org/wp-content/uploads/2025/11/Poetry-Project-quer-deutsch.png
ORGANIZER;CN="Der Divan - das Arabische Kulturhaus":MAILTO:events@derdivan.org
END:VEVENT
END:VCALENDAR