BEGIN:VCALENDAR
VERSION:2.0
PRODID:-//Der Divan – das Arabische Kulturhaus in Berlin - ECPv6.15.20//NONSGML v1.0//EN
CALSCALE:GREGORIAN
METHOD:PUBLISH
X-WR-CALNAME:Der Divan – das Arabische Kulturhaus in Berlin
X-ORIGINAL-URL:https://derdivan.org
X-WR-CALDESC:Veranstaltungen für Der Divan – das Arabische Kulturhaus in Berlin
REFRESH-INTERVAL;VALUE=DURATION:PT1H
X-Robots-Tag:noindex
X-PUBLISHED-TTL:PT1H
BEGIN:VTIMEZONE
TZID:Europe/Berlin
BEGIN:DAYLIGHT
TZOFFSETFROM:+0100
TZOFFSETTO:+0200
TZNAME:CEST
DTSTART:20240331T010000
END:DAYLIGHT
BEGIN:STANDARD
TZOFFSETFROM:+0200
TZOFFSETTO:+0100
TZNAME:CET
DTSTART:20241027T010000
END:STANDARD
BEGIN:DAYLIGHT
TZOFFSETFROM:+0100
TZOFFSETTO:+0200
TZNAME:CEST
DTSTART:20250330T010000
END:DAYLIGHT
BEGIN:STANDARD
TZOFFSETFROM:+0200
TZOFFSETTO:+0100
TZNAME:CET
DTSTART:20251026T010000
END:STANDARD
BEGIN:DAYLIGHT
TZOFFSETFROM:+0100
TZOFFSETTO:+0200
TZNAME:CEST
DTSTART:20260329T010000
END:DAYLIGHT
BEGIN:STANDARD
TZOFFSETFROM:+0200
TZOFFSETTO:+0100
TZNAME:CET
DTSTART:20261025T010000
END:STANDARD
END:VTIMEZONE
BEGIN:VEVENT
DTSTART;TZID=Europe/Berlin:20250615T120000
DTEND;TZID=Europe/Berlin:20250615T150000
DTSTAMP:20260421T201909
CREATED:20250528T145617Z
LAST-MODIFIED:20250528T150048Z
UID:987505284-1749988800-1749999600@derdivan.org
SUMMARY:Bara-Dance Workshop für Teens (12-18 Jahre)
DESCRIPTION:Der Divan – Das Arabische Kulturhaus lädt ein \nZur Bara-Dance Workshop für Teens (12-18 Jahre): \nEin traditioneller Tanz aus dem Jemen  \nDer Divan – Das Arabische Kulturhaus in Berlin freut sich\, mit einem besonderen Tanz-Workshop die reiche Tradition des jemenitischen Bara-Tanzes für Jugendliche erlebbar zu machen. \nAm 15. Juni 2025 von 12:00 bis 15:00 Uhr laden wir junge Tanz- und Kulturinteressierte im Alter von 12 bis 18 Jahren ein\, die faszinierende Welt des Bara-Tanzes kennenzulernen. \nDer Bara\, auch bekannt als „Dolchtanz“ (Jambiya-Tanz)\, ist eine der ältesten und bedeutendsten Tanzformen im Jemen. Begleitet wird der Tanz von traditioneller Trommelmusik\, die das Tempo von langsam bis zunehmend schnell und dynamisch bestimmt. Die Tänzer führen schnelle Schritte\, Drehungen und Sprünge aus und drücken durch ihre Gesten Mut\, Stolz und Gemeinschaftsgefühl aus. Der Bara-Tanz ist nicht nur ein lebendiger Ausdruck kultureller Identität\, sondern auch ein Spiegel der jahrhundertealten Traditionen und sozialen Werte der jemenitischen Gesellschaft. \nIm Workshop lernen die Jugendlichen erste Schrittfolgen\, Bewegungen und die besondere Technik des Tanzes kennen. Vorkenntnisse sind nicht erforderlich\, nur Neugier und Freude an Bewegung. Dabei erfahren sie auch mehr über die musikalische Begleitung und die symbolische Bedeutung der Janbiyas im Tanz. \nBesonders begabte Teilnehmer*innen des Workshops haben die Chance\, Teil einer ausgewählten Gruppe zu werden und ihre Fähigkeiten im Divan im Rahmen weiterer Tanztrainings und Projekte zu vertiefen \nWir freuen uns auf zahlreiche Teilnehmer*innen und einen energiegeladenen\, kulturellen Nachmittag! \nDer Workshop findet am Sonntag\, dem 15. Juni 2025\, von 12:00 bis 15:00 Uhr Im Divan (Schützallee 27\, 14169 Berlin) statt. \nWann: Sonntag\, den 15. Juni 2025\, von 12:00 bis 15:00 Uhr \nWo: Der Divan – Das Arabische Kulturhaus\, Schützallee 27\, 14169 Berlin \nEintritt frei \nANMELDUNG\n*Mit Ihrer Anmeldung sind Sie mit Bild- und Videoaufnahmen während der Veranstaltung einverstanden und willigen ein\, dass diese zu Zwecken der Öffentlichkeitsarbeit des Divan – Das Arabische Kulturhaus veröffentlicht werden dürfen.
URL:https://derdivan.org/event/bara-dance-workshop-fuer-teens-12-18-jahre/
CATEGORIES:Performing Arts,Workshops
ATTACH;FMTTYPE=image/png:https://derdivan.org/wp-content/uploads/2025/05/Quer-Deutsch.png
END:VEVENT
END:VCALENDAR