BEGIN:VCALENDAR
VERSION:2.0
PRODID:-//Der Divan – das Arabische Kulturhaus in Berlin - ECPv6.15.20//NONSGML v1.0//EN
CALSCALE:GREGORIAN
METHOD:PUBLISH
X-WR-CALNAME:Der Divan – das Arabische Kulturhaus in Berlin
X-ORIGINAL-URL:https://derdivan.org/ar/
X-WR-CALDESC:Events for Der Divan – das Arabische Kulturhaus in Berlin
REFRESH-INTERVAL;VALUE=DURATION:PT1H
X-Robots-Tag:noindex
X-PUBLISHED-TTL:PT1H
BEGIN:VTIMEZONE
TZID:Europe/Berlin
BEGIN:DAYLIGHT
TZOFFSETFROM:+0100
TZOFFSETTO:+0200
TZNAME:CEST
DTSTART:20240331T010000
END:DAYLIGHT
BEGIN:STANDARD
TZOFFSETFROM:+0200
TZOFFSETTO:+0100
TZNAME:CET
DTSTART:20241027T010000
END:STANDARD
BEGIN:DAYLIGHT
TZOFFSETFROM:+0100
TZOFFSETTO:+0200
TZNAME:CEST
DTSTART:20250330T010000
END:DAYLIGHT
BEGIN:STANDARD
TZOFFSETFROM:+0200
TZOFFSETTO:+0100
TZNAME:CET
DTSTART:20251026T010000
END:STANDARD
BEGIN:DAYLIGHT
TZOFFSETFROM:+0100
TZOFFSETTO:+0200
TZNAME:CEST
DTSTART:20260329T010000
END:DAYLIGHT
BEGIN:STANDARD
TZOFFSETFROM:+0200
TZOFFSETTO:+0100
TZNAME:CET
DTSTART:20261025T010000
END:STANDARD
END:VTIMEZONE
BEGIN:VEVENT
DTSTART;TZID=Europe/Berlin:20250722T190000
DTEND;TZID=Europe/Berlin:20250722T210000
DTSTAMP:20260421T155736
CREATED:20250716T103003Z
LAST-MODIFIED:20250716T104038Z
UID:987506153-1753210800-1753218000@derdivan.org
SUMMARY:دعوة إلى أمسية من ليالى الديوان السينمائية #2: من عبدول إلى ليلى
DESCRIPTION:الديوان – البيت الثقافي العربي يدعوكم إلى الأمسية الثانية من سلسلة فعالياتنا الجديدة ليالي الديوان السينمائية. \nيوم الثلاثاء 22 يوليو الساعة 19:00، نقدم لكم الفيلم الوثائقي “من عبدول إلى ليلى”. \nبعد أن كانت قد فقدت ذاكرتها تنطلق الفنانة الفرنسية العراقية ليلى البياتي خلال هذا الفيلم في رحلة شخصية عميقة لتتعرف من جديد على عائلتها ولغتها وهويتها. بعد حادث أدى إلى فقدان الذاكرة وعدة سنوات في المنفى، تعاود الشابة الفرنسية العراقية ليلى الاتصال بأسرتها حتى تستطيع أن تفهم  ماذا حدث لها ومن هي. تركز ليلى في بحثها على علاقتها بوالدها، ولغته العربية، فتحاول أن تتعلم هذه اللغة من خلال تلحين وغناء القصائد التي كتبها والدها لها، حتى تصل تدريجياًً إلى ذكريات طالما قمعتها، لتتمكن من فهم أعمق لأصولها ووطنها. \nيجمع هذا الفيلم الوثائقي الحائز على العديد من الجوائز (منها جائزة لجنة التحكيم الكبرى في مهرجان تطوان للفيلم العربي) بين الموسيقى والفن السينمائي والتاريخ الشخصي ليكون بمثابة قصيدة شعرية عن المنفى والإنتماء والعودة إلى الحياة. \nفي الحوار الذي يلي العرض، سيتحدث سمير نصر وليلى البياتي عن مسار حياتها، وعن صعوبات إنتاج الفيلم. الحوار سيكون أيضاً عن الفرص والتحديات التي تعنيها الحياة في ثقافتين مختلفتين. وفي الجزء الأخير من الأمسية سيكون هناك مجال للحوار وتبادل الآراء بين الحاضرين.ليلى البياتي فنانة فرنسية عراقية. مخرجة، مغنية، ملحنة، مؤدية، فنانة فيديو، كاتبة سيناريو وفنانة تشكيلية. تعيش بين بروكسل وبرلين وباريس والقاهرة. تؤلف الموسيقى لأفلامها، حيث تجمع بين أنماط موسيقية مختلفة من خلال دمج عناصر من موسيقى البوب والموسيقى التصويرية والموسيقى الإلكترونية. تغني بعدة لغات. غالبًا ما تتناول ليلى موضوعي المنفى والذاكرة. في عام 2009، أخرجت فيلمها القصير الأول Vu، الذي حصل على تنويه خاص من لجنة التحكيم في مهرجان برلين السينمائي الدولي. في سنة 2012 أخرجت فيلمها الروائي الطويل الأول Berlin Telegram، الذي عُرض لأول مرة عالميًا في مهرجان IndieLisboa وعُرض لأول مرة في الوطن العربي في مهرجان دبي، ثم عُرض في حوالي عشرين مهرجانًا. عُرض فيلمها Face B، وهو فيلم وثائقي روائي مدته 40 دقيقة، لأول مرة عالميًا في مهرجان برلين السينمائي الدولى 2015. \nسمير نصر مخرج ومونتير وأستاذ (في جامعة الفنون في برلين وجامعتي توبنغن وماينز وجامعة دورتموند للتكنولوجيا وغيرها)، يقيم في برلين والقاهرة. بعد حصوله على شهادة الثانوية العامة من المدرسة الألمانية في القاهرة، درس إدارة الأعمال ثم تخرج من أكاديمية بادن-فورتمبيرغ للسينما متخصصاً في كتابة السيناريو والإخراج. حصلت أفلامه على العديد من الجوائز منها جائزة أكاديمية الفنون في برلين عن فيلم NACHTTANKE (1999) وجائزة التانيت البرونزي عن فيلم SHARAF (2021) في مهرجان قرطاج السينمائي. منذ بداية العام، يتولى سمير نصر تنظيم برنامج الأفلام في الديوان. \nمن عبدول إلى ليلى\nفيلم وثائقي\nإخراج: ليلى البياتي\nألمانيا/بلجيكا/قطر/المملكة العربية السعودية، 2024\nمدة العرض 92 دقيقة \nالفيلم ناطق بالعربية والفرنسية والإنجليزية مع ترجمة ألمانية\nلغة الحوار: الإنجليزية \n  \nالزمان: الثلاثاء، 22 يوليو 2025، الساعة 19:00 \nالدخول الساعة السادسة والربع \nالمكان: الديوان – البيت الثقافي العربي\nSchützallee 27\, 14169 برلين \nالدخول مجاني \nالتسجيل عبر الزر أدناه \nمن خلال تسجيلكم، فإنكم توافقون على التقاط الصور والفيديوهات أثناء الفعالية، واستخدامها لأغراض العلاقات العامة للديـوان – البيت الثقافي العربي. \n  \nالتسجيل
URL:https://derdivan.org/ar/event/divan-filmabend-2-from-abdul-to-leila/
LOCATION:Der Divan – das Arabische Kulturhaus\, Schützallee 27-29\, Berlin\, Berlin\, 14169\, Deutschland
CATEGORIES:الأفلام
ATTACH;FMTTYPE=image/png:https://derdivan.org/wp-content/uploads/2025/07/Arabisch-EMAIL-und-EVENTBRITE-ohne-QR.png
ORGANIZER;CN="Der Divan - das Arabische Kulturhaus":MAILTO:events@derdivan.org
END:VEVENT
END:VCALENDAR