BEGIN:VCALENDAR
VERSION:2.0
PRODID:-//Der Divan – das Arabische Kulturhaus in Berlin - ECPv6.15.20//NONSGML v1.0//EN
CALSCALE:GREGORIAN
METHOD:PUBLISH
X-WR-CALNAME:Der Divan – das Arabische Kulturhaus in Berlin
X-ORIGINAL-URL:https://derdivan.org/ar/
X-WR-CALDESC:Events for Der Divan – das Arabische Kulturhaus in Berlin
REFRESH-INTERVAL;VALUE=DURATION:PT1H
X-Robots-Tag:noindex
X-PUBLISHED-TTL:PT1H
BEGIN:VTIMEZONE
TZID:Europe/Berlin
BEGIN:DAYLIGHT
TZOFFSETFROM:+0100
TZOFFSETTO:+0200
TZNAME:CEST
DTSTART:20250330T010000
END:DAYLIGHT
BEGIN:STANDARD
TZOFFSETFROM:+0200
TZOFFSETTO:+0100
TZNAME:CET
DTSTART:20251026T010000
END:STANDARD
BEGIN:DAYLIGHT
TZOFFSETFROM:+0100
TZOFFSETTO:+0200
TZNAME:CEST
DTSTART:20260329T010000
END:DAYLIGHT
BEGIN:STANDARD
TZOFFSETFROM:+0200
TZOFFSETTO:+0100
TZNAME:CET
DTSTART:20261025T010000
END:STANDARD
BEGIN:DAYLIGHT
TZOFFSETFROM:+0100
TZOFFSETTO:+0200
TZNAME:CEST
DTSTART:20270328T010000
END:DAYLIGHT
BEGIN:STANDARD
TZOFFSETFROM:+0200
TZOFFSETTO:+0100
TZNAME:CET
DTSTART:20271031T010000
END:STANDARD
END:VTIMEZONE
BEGIN:VEVENT
DTSTART;TZID=Europe/Berlin:20260312T180000
DTEND;TZID=Europe/Berlin:20260312T210000
DTSTAMP:20260421T140015
CREATED:20260303T075810Z
LAST-MODIFIED:20260303T080545Z
UID:987508417-1773338400-1773349200@derdivan.org
SUMMARY:سلسلة "كنوز المعرفة - حوار مع المخطوطات العربية" بالتعاون مع مكتبة برلين الحكومية
DESCRIPTION:DIVAN @ STABI\n”كنوز المعرفة“\nسلسلة محاضرات جديدة بالتعاون مع مكتبة برلين الحكومية:\n”كنوز المعرفة – حوار مع المخطوطات العربية“\nعندما لا ينسخ الناسخون. الكتّاب المجهولون لكليلة ودمنة\nيتشرف الديوان – البيت الثقافي العربي ومكتبة برلين الحكومية بدعوتكم إلى افتتاح سلسلة الفعاليات المشتركة “كنوز المعرفة – حوار مع المخطوطات العربية”. تكرس هذه السلسلة للمخطوطات العربية بوصفها جزءا أساسياً من التراث الثقافي العالمي، وتفتح حواراً متعدد التخصصات بين البحث العلمي والعمل الثقافي والجمهور. \nفي محاضرات ونقاشات، يسلط خبراء وخبيرات من تخصصات مختلفة الضوء على المخطوطات العربية من منظور تاريخي وأدبي واجتماعي وعلمي. وتشمل الموضوعات المطروحة تاريخ المكتبات، والمخطوطات بوصفها مصادر للممارسة الاجتماعية، والعلوم الطبيعية، وعلم الفلك، وكذلك اللغة العربية وآدابها. \nسيتم افتتاح هذه السلسلة بحلقة نقاشية مع البروفسورة د. بياتريس غروندلر (جامعة برلين الحرة) بعنوان: “عندما لا ينسخ النسّاخ. المؤلفون المجهولون لكليلة ودمنة”. تتمحور المحاضرة حول تاريخ نقل مجموعة الحكايات الشهيرة في كتاب كليلة ودمنة. حيث ستسلّط البروفسورة غروندلر الضوء على الكيفية التي تدّخل من خلالها النساخ بفاعلية في النصوص، ليصبحوا بذلك شركاء في التأليف. وهو الأمر الذي  لم يحظَ حتى الآن بالاهتمام الكافي. كما تقدم مقاربات بحثية مدعومة رقمياً، وتعرض مجموعة مختارة من المخطوطات الأصلية من مقتنيات المكتبة الحكومية في برلين. \nيسرنا أن نستهل الفعالية معكم بإفطار مشترك بمناسبة شهر رمضان الكريم، في تمام الساعة السادسة مساء. تلي ذلك الحلقة النقاشية التي تلقيها الأستاذة غروندلر في الساعة 19:15. \nالموعد: يوم الخميس 12 مارس ٢٠٢٦، الساعة السادسة مساء \nStaatsbibliothek zu Berlin – Unter den Linden \nWilhelm-von-Humboldt-Saal \nUnter den Linden 8 \n10117 Berlin \n  لغة الفعالية: الألمانية، والعربية \n التسجيل\nمن خلال تسجيلكم، فإنكم توافقون على التقاط الصور والفيديوهات أثناء الفعالية، واستخدامها لأغراض العلاقات العامة للديـوان – البيت الثقافي العربي.
URL:https://derdivan.org/ar/event/987508417/
CATEGORIES:الحلقات النقاشية
ATTACH;FMTTYPE=image/png:https://derdivan.org/wp-content/uploads/2026/03/Deutsch-mit-QR-Code-3.png
END:VEVENT
END:VCALENDAR