BEGIN:VCALENDAR
VERSION:2.0
PRODID:-//Der Divan – das Arabische Kulturhaus in Berlin - ECPv6.15.20//NONSGML v1.0//EN
CALSCALE:GREGORIAN
METHOD:PUBLISH
X-WR-CALNAME:Der Divan – das Arabische Kulturhaus in Berlin
X-ORIGINAL-URL:https://derdivan.org/ar/
X-WR-CALDESC:Events for Der Divan – das Arabische Kulturhaus in Berlin
REFRESH-INTERVAL;VALUE=DURATION:PT1H
X-Robots-Tag:noindex
X-PUBLISHED-TTL:PT1H
BEGIN:VTIMEZONE
TZID:Europe/Berlin
BEGIN:DAYLIGHT
TZOFFSETFROM:+0100
TZOFFSETTO:+0200
TZNAME:CEST
DTSTART:20240331T010000
END:DAYLIGHT
BEGIN:STANDARD
TZOFFSETFROM:+0200
TZOFFSETTO:+0100
TZNAME:CET
DTSTART:20241027T010000
END:STANDARD
BEGIN:DAYLIGHT
TZOFFSETFROM:+0100
TZOFFSETTO:+0200
TZNAME:CEST
DTSTART:20250330T010000
END:DAYLIGHT
BEGIN:STANDARD
TZOFFSETFROM:+0200
TZOFFSETTO:+0100
TZNAME:CET
DTSTART:20251026T010000
END:STANDARD
BEGIN:DAYLIGHT
TZOFFSETFROM:+0100
TZOFFSETTO:+0200
TZNAME:CEST
DTSTART:20260329T010000
END:DAYLIGHT
BEGIN:STANDARD
TZOFFSETFROM:+0200
TZOFFSETTO:+0100
TZNAME:CET
DTSTART:20261025T010000
END:STANDARD
END:VTIMEZONE
BEGIN:VEVENT
DTSTART;TZID=Europe/Berlin:20250613T180000
DTEND;TZID=Europe/Berlin:20250613T200000
DTSTAMP:20260421T190234
CREATED:20250604T190412Z
LAST-MODIFIED:20250604T190605Z
UID:987505387-1749837600-1749844800@derdivan.org
SUMMARY:هل انتهت حرية الصحافة؟
DESCRIPTION:بمناسبة اليوم العالمي لحرية الصحافة، ينظم الديوان – البيت الثقافي العربي حلقة نقاشية لتسليط الضوء على الحالة الراهنة لحرية الصحافة حول العالم، ويدعوكم للمشاركة في نقاش مباشر مع أهم الخبراء البارزين في هذا المجال.\nفي عالم يتزايد فيه عدد الصحفيين الذين يُقتلون أثناء أداء واجبهم، ويتعرض الكثير منهم للتهديد، والاعتداء، والتخويف، تبرز أسئلة ملحّة: هل لا تزال حرية الصحافة في مأمن؟ وهل أصبح الخطر يقترب أيضاً من الديمقراطيات الغربية؟\nهذه الأسئلة وغيرها سيناقشها الصحفي والكاتب إيفالد كونيش، مع نخبة من الخبراء:\nد. فرانك – ديتر فريلينغ، نائب رئيس مجلس إدارة القناة التلفزيونية الألمانية الثانية، ZDF، ورئيس قسم الشؤون الدولية، ليكشف عن التحديات التي تواجه الصحافة في عالمنا اليوم.\nالمهندس عبد الله السليطي، نائب رئيس مجلس إدارة المركز القطري للصحافة، الذي سينقل وجهة نظر من قلب المنطقة.\nالصحفي إيريك كيرشباوم، مراسل دولي لوسائل الإعلام الأمريكية، والمدير التنفيذي السابق برنامج التبادل الإعلامي الألماني-الأمريكي، الذي سيشارك خبراته في التبادل الثقافي والإعلامي بين ألمانيا وأمريكا.\nوفي نهاية اللقاء، سيتاح المجال للأسئلة والنقاش وتبادل الأفكار. لا تفوتوا هذه الفرصة للمشاركة في حوار يهم مستقبل حرية الصحافة.\nنتطلّع لحضوركم ومشاركتكم!\nالتسجيل: من خلال الرابط
URL:https://derdivan.org/ar/event/%d9%87%d9%84-%d8%a7%d9%86%d8%aa%d9%87%d8%aa-%d8%ad%d8%b1%d9%8a%d8%a9-%d8%a7%d9%84%d8%b5%d8%ad%d8%a7%d9%81%d8%a9%d8%9f/
CATEGORIES:الحلقات النقاشية
ATTACH;FMTTYPE=image/png:https://derdivan.org/wp-content/uploads/2025/06/Quer-Deutsch.png
END:VEVENT
END:VCALENDAR