BEGIN:VCALENDAR
VERSION:2.0
PRODID:-//Der Divan – das Arabische Kulturhaus in Berlin - ECPv6.15.20//NONSGML v1.0//EN
CALSCALE:GREGORIAN
METHOD:PUBLISH
X-WR-CALNAME:Der Divan – das Arabische Kulturhaus in Berlin
X-ORIGINAL-URL:https://derdivan.org/ar/
X-WR-CALDESC:Events for Der Divan – das Arabische Kulturhaus in Berlin
REFRESH-INTERVAL;VALUE=DURATION:PT1H
X-Robots-Tag:noindex
X-PUBLISHED-TTL:PT1H
BEGIN:VTIMEZONE
TZID:Europe/Berlin
BEGIN:DAYLIGHT
TZOFFSETFROM:+0100
TZOFFSETTO:+0200
TZNAME:CEST
DTSTART:20240331T010000
END:DAYLIGHT
BEGIN:STANDARD
TZOFFSETFROM:+0200
TZOFFSETTO:+0100
TZNAME:CET
DTSTART:20241027T010000
END:STANDARD
BEGIN:DAYLIGHT
TZOFFSETFROM:+0100
TZOFFSETTO:+0200
TZNAME:CEST
DTSTART:20250330T010000
END:DAYLIGHT
BEGIN:STANDARD
TZOFFSETFROM:+0200
TZOFFSETTO:+0100
TZNAME:CET
DTSTART:20251026T010000
END:STANDARD
BEGIN:DAYLIGHT
TZOFFSETFROM:+0100
TZOFFSETTO:+0200
TZNAME:CEST
DTSTART:20260329T010000
END:DAYLIGHT
BEGIN:STANDARD
TZOFFSETFROM:+0200
TZOFFSETTO:+0100
TZNAME:CET
DTSTART:20261025T010000
END:STANDARD
END:VTIMEZONE
BEGIN:VEVENT
DTSTART;TZID=Europe/Berlin:20250710T183000
DTEND;TZID=Europe/Berlin:20250710T200000
DTSTAMP:20260421T190207
CREATED:20250703T190958Z
LAST-MODIFIED:20250703T204243Z
UID:987505949-1752172200-1752177600@derdivan.org
SUMMARY:إطلاق النسخة الألمانية لرواية سيدات القمر
DESCRIPTION:يسرنا أن نطلق النسخة الألمانية من رواية “سيدات القمر” للكاتبة العُمانية البروفيسورة الدكتورة جوخة الحارثي، التي ستشارك عبر الفيديو من سلطنة عُمان، المستعربة والمترجمة البروفيسورة الدكتورة كلاوديا أوت. حيث ستقدمان معاً باللغتين العربية والألمانية رواية “سيدات القمر” التي نُشرت عن دار دورلمان للنشر.\n\n\n\nتأخذنا الرواية إلى قرية عوافي (الخيالية) العُمانية، وتحكي قصص ثلاث أخوات: ميّا التي تتزوج من عبدالله ابن التاجر رغم قلبها المكسور، أسماء التي تتزوج من الفنان المغرور خالد بدافع الواجب، وخولة التي ترفض كل الذين تقدموا لخطبتها انتظارًا لحبيبها. تعكس مسارات حياة هؤلاء الفتيات التوترات داخل المجتمع العُماني، الذي يسعى بعد الحقبة الاستعمارية إلى إعادة اكتشاف ذاته بين التقاليد والحداثة – تمامًا كما تفعل هؤلاء النساء.\n\n\n\n\n\n\n\nتحكي رواية “سيدات القمر” بصوت جماعي عن الحياة، والحب، وأحلام النساء في مجتمع تقليدي أبوي – وهي مواضيع ستتناولها الكاتبة والمترجمة خلال الأمسية. سيتم ترجمة إجابات الدكتورة جوخة الحارثي من العربية إلى الألمانية من قبل الدكتورة كلاوديا أوت، مما يتيح حوارًا ثقافيًا غنيًا ومتنوعًا يفتح آفاقًا جديدة لفهم تجارب ووجهات نظر متعددة.\n\n\n\nتُعدّ البروفيسورة الدكتورة جوخة الحارثي من أبرز الأصوات في الأدب العُماني المعاصر. وقد حصلت عام 2019 على جائزة مان بوكر العالمية المرموقة عن روايتها “سيدات القمر” وترجمتها إلى اللغة الإنجليزية بعنوان Celestial Bodies من قبل مارلين بوث، لتكون بذلك أول كاتبة ناطقة بالعربية تفوز بهذه الجائزة. تُدرّس الحارثي الأدب العربي الكلاسيكي في جامعة السلطان قابوس في مسقط، عُمان.\n\n\n\nأما البروفيسورة الدكتورة كلاوديا أوت، فهي مستعربة ومترجمة وموسيقية معروفة بترجمتها الجديدة متعددة الأجزاء لكتاب “ألف ليلة وليلة”، وقد نالت جوائز عديدة من ضمنها جائزة يوهان فريدريش فون كوتا للأدب والترجمة. رُشحت عام 2013 لجائزة معرض لايبزيغ للكتاب عن ترجمتها “101 ليلة”، كما رُشحت عام 2025 لجائزة الشيخ زايد الدولية عن كتاب “ألف ليلة وليلة – كتاب الحب”. وتشغل منصب أستاذة فخرية في معهد الدراسات العربية/الإسلامية بجامعة غوتنغن.\n\n\n\nتفتتح الأمسية بكلمة ترحيبية من الدكتور فولفغانغ تسيمرمان، رئيس الجمعية الألمانية العُمانية، حيث سيقدم نبذة تعريفية عن سلطنة عُمان، مستندًا إلى خبرته الواسعة في هذا المجال.\nالموعد: يوم الخميس ١٠ يوليو ٢٠٢٥\n الساعة السادسة والنصف\nالمكان: الديوان – البيت الثقافي العربي\nيرجى التسجيل على الرابط أدناه\nالتسجيل\n \n  \nمن خلال التسجيل، فإنك توافق على تسجيلات الصور والفيديو أثناء الفعالية، ونشرها لأغراض العلاقات العامة للديوان – البيت الثقافي العربي.
URL:https://derdivan.org/ar/event/%d8%ad%d9%81%d9%84-%d8%a5%d8%b7%d9%84%d8%a7%d9%82-%d8%a7%d9%84%d9%86%d8%b3%d8%ae%d8%a9-%d8%a7%d9%84%d8%a3%d9%84%d9%85%d8%a7%d9%86%d9%8a%d8%a9-%d9%84%d8%b1%d9%88%d8%a7%d9%8a%d8%a9-%d8%b3%d9%8a%d8%af/
CATEGORIES:الحلقات النقاشية
ATTACH;FMTTYPE=image/png:https://derdivan.org/wp-content/uploads/2025/07/5.png
END:VEVENT
END:VCALENDAR