BEGIN:VCALENDAR
VERSION:2.0
PRODID:-//Der Divan – das Arabische Kulturhaus in Berlin - ECPv6.15.20//NONSGML v1.0//EN
CALSCALE:GREGORIAN
METHOD:PUBLISH
X-WR-CALNAME:Der Divan – das Arabische Kulturhaus in Berlin
X-ORIGINAL-URL:https://derdivan.org/ar/
X-WR-CALDESC:Events for Der Divan – das Arabische Kulturhaus in Berlin
REFRESH-INTERVAL;VALUE=DURATION:PT1H
X-Robots-Tag:noindex
X-PUBLISHED-TTL:PT1H
BEGIN:VTIMEZONE
TZID:Europe/Berlin
BEGIN:DAYLIGHT
TZOFFSETFROM:+0100
TZOFFSETTO:+0200
TZNAME:CEST
DTSTART:20240331T010000
END:DAYLIGHT
BEGIN:STANDARD
TZOFFSETFROM:+0200
TZOFFSETTO:+0100
TZNAME:CET
DTSTART:20241027T010000
END:STANDARD
BEGIN:DAYLIGHT
TZOFFSETFROM:+0100
TZOFFSETTO:+0200
TZNAME:CEST
DTSTART:20250330T010000
END:DAYLIGHT
BEGIN:STANDARD
TZOFFSETFROM:+0200
TZOFFSETTO:+0100
TZNAME:CET
DTSTART:20251026T010000
END:STANDARD
BEGIN:DAYLIGHT
TZOFFSETFROM:+0100
TZOFFSETTO:+0200
TZNAME:CEST
DTSTART:20260329T010000
END:DAYLIGHT
BEGIN:STANDARD
TZOFFSETFROM:+0200
TZOFFSETTO:+0100
TZNAME:CET
DTSTART:20261025T010000
END:STANDARD
END:VTIMEZONE
BEGIN:VEVENT
DTSTART;TZID=Europe/Berlin:20250704T180000
DTEND;TZID=Europe/Berlin:20250801T200000
DTSTAMP:20260421T202728
CREATED:20250611T215658Z
LAST-MODIFIED:20250703T142758Z
UID:987505429-1751652000-1754078400@derdivan.org
SUMMARY:حسن حشمت - ابن البلد وابن النهضة، فنان بين التراث والتجديد
DESCRIPTION:بالتعاون مع مركز لايبنتس للشرق المعاصر، يتشرّف الديوان – البيت الثقافي العربي في برلين بدعوتكم لحضور افتتاح معرض الفنان المصري حسن حشمت (1920-2006)، والتعرّف على أعماله الفنية الثرية والمتنوعة، والمنتشرة في جميع أنحاء العالم.\nيعد حشمت أحد الأصوات المؤثرة في النحت المصري والعربي الحديث في القرن العشرين. تجمع أعماله بين تأثيرات التراث الفرعوني والثقافة الشعبية في لغة بصرية حديثة. وهي مستوحاة من عناصر الحياة اليومية المصرية، وكرامة الناس البسطاء، ومن روح المسيحية والإسلام. يعتبر حشمت في مصر أحد أهم النحاتين في عصره، وقد أسهم عرض أعماله في الأماكن العامة، ورؤيته للفن باعتباره “فناً للملايين” في شهرته الواسعة. واليوم فإنه من الضروري إعادة اكتشاف هذا الفنان الفريد، الذي عًرضت أعماله في أوروبا الشرقية والغربية خلال الحرب الباردة.\nسيتم عرض مجموعة مختارة من المنحوتات الخزفية والنقوش الخشبية بالإضافة إلى نسخ فوتوغرافية من أعماله المعروضة. في الوقت الذي ستضع فيه محاضرتين مصاحبتين للمعرض، أعمال الفنان في سياق فن النحت العربي الحديث.\nافتتاح المعرض: 4 يوليو 2025، الساعة 6 مساءً، مع محاضرة افتتاحية لنادين نور الدين، مؤرخة فنية ومنسقة معارض في لندن، بعنوان: “The People’s Sculptor: The Porcelain Legacy of Hassan Heshmat“.\nيستمر المعرض حتى 1 أغسطس 2025.\nأوقات زيارة المعرض: يمكن زيارة المعرض يومياً من الساعة 10:00 صباحًا حتى 3:00 عصرًا، ما عدا أيام السبت والأحد. لزيارة المعرض في عطلة نهاية الأسبوع، يرجى الحجز مسبقاً عبر البريد الإلكتروني events@derdivan.org.\nالمكان: الديوان – البيت الثقافي العربي\nالقيّمون على المعرض: د. صونيا حجازي، وكاتارينا ماريا راب\nالبحث العلمي في مركز الشرق المعاصر: حسن حشمت – فنان ما بعد الاستعمار، بين الأمس واليوم\n \nالبرنامج المصاحب للمعرض: سيتم الإعلان عنه لاحقاً\nورشة عمل للأطفال: سيتم الإعلان عنها لاحقاً\nالدخول مجاني\nمن خلال بالتسجيل، فإنك توافق على التقاط الصور والفيديو أثناء الفعالية ونشرها لأغراض العلاقات العامة للديوان – البيت الثقافي العربي.\nالتسجيل\nكتالوج المعرض\n \nتفاصيل المعرض:\nالافتتاح: الجمعة، 4 يوليو 2025 الساعة 18:00\nاختتام المعرض: الجمعة، 1 أغسطس 2025 الساعة 15:00\n 
URL:https://derdivan.org/ar/event/%d8%ad%d8%b3%d9%86-%d8%ad%d8%b4%d9%85%d8%aa-%d8%a7%d8%a8%d9%86-%d8%a7%d9%84%d8%a8%d9%84%d8%af-%d9%88%d8%a7%d8%a8%d9%86-%d8%a7%d9%84%d9%86%d9%87%d8%b6%d8%a9%d8%8c-%d9%81%d9%86%d8%a7%d9%86-%d8%a8/
CATEGORIES:المعارض الفنية
ATTACH;FMTTYPE=image/png:https://derdivan.org/wp-content/uploads/2025/06/Quer-Deutsch-2-1.png
END:VEVENT
END:VCALENDAR