BEGIN:VCALENDAR
VERSION:2.0
PRODID:-//Der Divan – das Arabische Kulturhaus in Berlin - ECPv6.15.20//NONSGML v1.0//EN
CALSCALE:GREGORIAN
METHOD:PUBLISH
X-WR-CALNAME:Der Divan – das Arabische Kulturhaus in Berlin
X-ORIGINAL-URL:https://derdivan.org/ar/
X-WR-CALDESC:Events for Der Divan – das Arabische Kulturhaus in Berlin
REFRESH-INTERVAL;VALUE=DURATION:PT1H
X-Robots-Tag:noindex
X-PUBLISHED-TTL:PT1H
BEGIN:VTIMEZONE
TZID:Europe/Berlin
BEGIN:DAYLIGHT
TZOFFSETFROM:+0100
TZOFFSETTO:+0200
TZNAME:CEST
DTSTART:20240331T010000
END:DAYLIGHT
BEGIN:STANDARD
TZOFFSETFROM:+0200
TZOFFSETTO:+0100
TZNAME:CET
DTSTART:20241027T010000
END:STANDARD
BEGIN:DAYLIGHT
TZOFFSETFROM:+0100
TZOFFSETTO:+0200
TZNAME:CEST
DTSTART:20250330T010000
END:DAYLIGHT
BEGIN:STANDARD
TZOFFSETFROM:+0200
TZOFFSETTO:+0100
TZNAME:CET
DTSTART:20251026T010000
END:STANDARD
BEGIN:DAYLIGHT
TZOFFSETFROM:+0100
TZOFFSETTO:+0200
TZNAME:CEST
DTSTART:20260329T010000
END:DAYLIGHT
BEGIN:STANDARD
TZOFFSETFROM:+0200
TZOFFSETTO:+0100
TZNAME:CET
DTSTART:20261025T010000
END:STANDARD
END:VTIMEZONE
BEGIN:VEVENT
DTSTART;TZID=Europe/Berlin:20250914T091500
DTEND;TZID=Europe/Berlin:20250914T160000
DTSTAMP:20260421T172202
CREATED:20250808T132306Z
LAST-MODIFIED:20251007T064835Z
UID:987506455-1757841300-1757865600@derdivan.org
SUMMARY:بطولة الديوان للشطرنج السريع
DESCRIPTION:‎♟️ بطولة الديوان للشطرنج – لا تفوّت الفرصة! ♟️\nفي يوم الأحد 14 سبتمبر 2025 يتحوّل الديوان إلى ساحة للشطرنج!\nبالتعاون مع Potsdamer SV Mitte e.V. – بطولة من 7 جولات بالنظام السويسري ⚡️ \n‎🕘 التسجيل عن طريق الإيميل\n‎🎯 انطلاق البطولة: 09:15\n‎📍 الديوان – البيت الثقافي العربي، Schützallee 27–29 Berlin\n‎💡 النظام: 12 دقيقة + 3 ثوانٍ لكل نقلة | حسب قواعد FIDE\n‎🌍 المشاركة مفتوحة للجميع \n‎🏆 الجوائز:\n‎🥇 المركز الأول: 500 €\n‎🥈 المركز الثاني: 300 €\n‎🥉 المركز الثالث: 150 €\n‎… وجوائز إضافية مميزة! \n‎📧 سجّل الآن عبر البريد الإلكتروني مع الاسم الكامل (والنادي إن وُجد):\n👉 sport@derdivan.org \n‎👥 العدد محدود بـ 140 مشاركًا – الأفضلية بالأسبقية\n‎🍽️ مأكولات ومشروبات متوفرة | يُمنع إدخال الطعام أو الأجهزة للقاعة \n  \nمن خلال التسجيل، فإنك توافق على تسجيلات الصور والفيديو أثناء الفعالية، ونشرها لأغراض العلاقات العامة للديوان – البيت الثقافي العربي.
URL:https://derdivan.org/ar/event/%d8%a8%d8%b7%d9%88%d9%84%d8%a9-%d8%a7%d9%84%d8%af%d9%8a%d9%88%d8%a7%d9%86-%d9%84%d9%84%d8%b4%d8%b7%d8%b1%d9%86%d8%ac-%d8%a7%d9%84%d8%b3%d8%b1%d9%8a%d8%b9/
LOCATION:Der Divan – das Arabische Kulturhaus\, Schützallee 27-29\, Berlin\, Berlin\, 14169\, Deutschland
CATEGORIES:الديوان سبورت
ATTACH;FMTTYPE=image/png:https://derdivan.org/wp-content/uploads/2025/08/Schachturnier-quer-arabisch.png
ORGANIZER;CN="Der Divan - das Arabische Kulturhaus":MAILTO:events@derdivan.org
END:VEVENT
END:VCALENDAR