BEGIN:VCALENDAR
VERSION:2.0
PRODID:-//Der Divan – das Arabische Kulturhaus in Berlin - ECPv6.15.20//NONSGML v1.0//EN
CALSCALE:GREGORIAN
METHOD:PUBLISH
X-WR-CALNAME:Der Divan – das Arabische Kulturhaus in Berlin
X-ORIGINAL-URL:https://derdivan.org/ar/
X-WR-CALDESC:Events for Der Divan – das Arabische Kulturhaus in Berlin
REFRESH-INTERVAL;VALUE=DURATION:PT1H
X-Robots-Tag:noindex
X-PUBLISHED-TTL:PT1H
BEGIN:VTIMEZONE
TZID:Europe/Berlin
BEGIN:DAYLIGHT
TZOFFSETFROM:+0100
TZOFFSETTO:+0200
TZNAME:CEST
DTSTART:20240331T010000
END:DAYLIGHT
BEGIN:STANDARD
TZOFFSETFROM:+0200
TZOFFSETTO:+0100
TZNAME:CET
DTSTART:20241027T010000
END:STANDARD
BEGIN:DAYLIGHT
TZOFFSETFROM:+0100
TZOFFSETTO:+0200
TZNAME:CEST
DTSTART:20250330T010000
END:DAYLIGHT
BEGIN:STANDARD
TZOFFSETFROM:+0200
TZOFFSETTO:+0100
TZNAME:CET
DTSTART:20251026T010000
END:STANDARD
BEGIN:DAYLIGHT
TZOFFSETFROM:+0100
TZOFFSETTO:+0200
TZNAME:CEST
DTSTART:20260329T010000
END:DAYLIGHT
BEGIN:STANDARD
TZOFFSETFROM:+0200
TZOFFSETTO:+0100
TZNAME:CET
DTSTART:20261025T010000
END:STANDARD
END:VTIMEZONE
BEGIN:VEVENT
DTSTART;TZID=Europe/Berlin:20250719T120000
DTEND;TZID=Europe/Berlin:20250719T180000
DTSTAMP:20260421T190105
CREATED:20250716T105403Z
LAST-MODIFIED:20251007T064520Z
UID:987506164-1752926400-1752948000@derdivan.org
SUMMARY:بطولة الديوان للبلايستيشن 🎮 تحدي FC25!
DESCRIPTION:يدعوكم البيت الثقافي العربي – الديوان للمشاركة في بطولة الديوان للبلايستيشن بلعبة فيفا FC25، وذلك يوم السبت ١٩ يوليو ٢٠٢٥ في تمام الساعة ١٢ ظهراً في مقر الديوان. \nيوم مليء بالإثارة، المنافسات القوية، والجوائز القيّمة في انتظاركم! \n📝 آخر موعد للتسجيل: الجمعة، ١٨ يوليو، الساعة ٣ عصراً \n📌 المشاركة متاحة لمن هم بعمر ١٤ عاماً فما فوق \n📲 التسجيل عبر نموذج QR أو مباشرةً في الديوان \n🏆 سيتم تكريم أفضل ١٠ لاعبين بجوائز رائعة! \nلا تفوّتوا فرصة المشاركة في هذا اليوم الممتع والمليء بالتحدي، المرح والتعارف في أجواء مميزة داخل البيت الثقافي العربي – الديوان. \n📅 التاريخ: ١٩ يوليو ٢٠٢٥ \n🕛 الوقت: الساعة ١٢ ظهراً \n📍 المكان: Schützallee 27–29\, 14169 Berlin – البيت الثقافي العربي – الديوان \nالدخول مجاني \nيرجى التسجيل على الرابط أدناه \nمن خلال التسجيل، فإنك توافق على تسجيلات الصور والفيديو أثناء الفعالية، ونشرها لأغراض العلاقات العامة للديوان – البيت الثقافي العربي. \n  \nالتسجيل\n 
URL:https://derdivan.org/ar/event/%d8%a8%d8%b7%d9%88%d9%84%d8%a9-%d8%a7%d9%84%d8%af%d9%8a%d9%88%d8%a7%d9%86-%d9%84%d9%84%d8%a8%d9%84%d8%a7%d9%8a%d8%b3%d8%aa%d9%8a%d8%b4%d9%86-%f0%9f%8e%ae-%d8%aa%d8%ad%d8%af%d9%8a-fc25/
LOCATION:Der Divan – das Arabische Kulturhaus\, Schützallee 27-29\, Berlin\, Berlin\, 14169\, Deutschland
CATEGORIES:الديوان سبورت
ATTACH;FMTTYPE=image/png:https://derdivan.org/wp-content/uploads/2025/07/FC25-Cover-quer_arabisch.png
ORGANIZER;CN="Der Divan - das Arabische Kulturhaus":MAILTO:events@derdivan.org
END:VEVENT
END:VCALENDAR